BEGIN:VCALENDAR
VERSION:2.0
PRODID:-//RAYSE. PILATES - ECPv6.11.2//NONSGML v1.0//EN
CALSCALE:GREGORIAN
METHOD:PUBLISH
X-ORIGINAL-URL:https://raysepilates.com
X-WR-CALDESC:Events for RAYSE. PILATES
REFRESH-INTERVAL;VALUE=DURATION:PT1H
X-Robots-Tag:noindex
X-PUBLISHED-TTL:PT1H
BEGIN:VTIMEZONE
TZID:Europe/Berlin
BEGIN:DAYLIGHT
TZOFFSETFROM:+0100
TZOFFSETTO:+0200
TZNAME:CEST
DTSTART:20270328T010000
END:DAYLIGHT
BEGIN:STANDARD
TZOFFSETFROM:+0200
TZOFFSETTO:+0100
TZNAME:CET
DTSTART:20271031T010000
END:STANDARD
END:VTIMEZONE
BEGIN:VEVENT
DTSTART;TZID=Europe/Berlin:20270917T073000
DTEND;TZID=Europe/Berlin:20270917T083000
DTSTAMP:20260420T021222
CREATED:20250603T130913Z
LAST-MODIFIED:20250603T130943Z
UID:10004171-1821166200-1821169800@raysepilates.com
SUMMARY:NOI ESSENTIALS REFORMER
DESCRIPTION:Reformer Training in Berlin for beginners.
URL:https://raysepilates.com/event/noi-essentials-reformer-beginner-2/2027-09-17/
LOCATION:NOI Studios\, Spielhagenstraße 7\, Berlin\, 10585\, Germany
CATEGORIES:berlin schedule
ATTACH;FMTTYPE=image/jpeg:https://raysepilates.com/wp-content/uploads/2024/06/DSCF8318-scaled.jpg
END:VEVENT
BEGIN:VEVENT
DTSTART;TZID=Europe/Berlin:20270917T083500
DTEND;TZID=Europe/Berlin:20270917T093000
DTSTAMP:20260420T021222
CREATED:20250603T131243Z
LAST-MODIFIED:20250603T131243Z
UID:10005213-1821170100-1821173400@raysepilates.com
SUMMARY:NOI SIGNATURE REFORMER
DESCRIPTION:Reformer Training in Berlin with previous experience.
URL:https://raysepilates.com/event/noi-signature-reformer/2027-09-17/
LOCATION:NOI Studios\, Spielhagenstraße 7\, Berlin\, 10585\, Germany
CATEGORIES:berlin schedule
ATTACH;FMTTYPE=image/jpeg:https://raysepilates.com/wp-content/uploads/2024/06/DSCF8318-scaled.jpg
END:VEVENT
BEGIN:VEVENT
DTSTART;TZID=Europe/Berlin:20270917T094500
DTEND;TZID=Europe/Berlin:20270917T103500
DTSTAMP:20260420T021222
CREATED:20250603T131056Z
LAST-MODIFIED:20250603T131056Z
UID:10004692-1821174300-1821177300@raysepilates.com
SUMMARY:NOI ESSENTIALS REFORMER
DESCRIPTION:Reformer Training in Berlin for beginners.
URL:https://raysepilates.com/event/noi-essentials-reformer/2027-09-17/
LOCATION:NOI Studios\, Spielhagenstraße 7\, Berlin\, 10585\, Germany
CATEGORIES:berlin schedule
ATTACH;FMTTYPE=image/jpeg:https://raysepilates.com/wp-content/uploads/2024/06/DSCF8318-scaled.jpg
END:VEVENT
BEGIN:VEVENT
DTSTART;TZID=Europe/Berlin:20270920T091500
DTEND;TZID=Europe/Berlin:20270920T101500
DTSTAMP:20260420T021222
CREATED:20240628T163638Z
LAST-MODIFIED:20240707T155331Z
UID:10000946-1821431700-1821435300@raysepilates.com
SUMMARY:REFORMER LEVEL 1
DESCRIPTION:Reformer training with previous experience.
URL:https://raysepilates.com/event/dienstag-17uhr-studio-xy-kurs-z/2027-09-20/
LOCATION:The Body In Balance\, Kreuzbergstraße 30\, Viktoria Hof\, Aufgang 3 | 4.OG\, Berlin\, 10965\, Deutschland
CATEGORIES:berlin schedule
ATTACH;FMTTYPE=image/jpeg:https://raysepilates.com/wp-content/uploads/2024/06/DSCF8318-scaled.jpg
END:VEVENT
BEGIN:VEVENT
DTSTART;TZID=Europe/Berlin:20270923T081500
DTEND;TZID=Europe/Berlin:20270923T090000
DTSTAMP:20260420T021222
CREATED:20250408T110012Z
LAST-MODIFIED:20250408T110012Z
UID:10003381-1821687300-1821690000@raysepilates.com
SUMMARY:PILATES MORNING FLOW
DESCRIPTION:Mat training with equipment (theraband\, foam roller\, magic circle\, soft ball). Suitable for beginners with previous experience.
URL:https://raysepilates.com/event/pilates-mat-berlin-kreuzberg/2027-09-23/
LOCATION:Unser Studio\, Urbanstr. 131\, Berlin\, 10967\, Deutschland
CATEGORIES:berlin schedule
ATTACH;FMTTYPE=image/jpeg:https://raysepilates.com/wp-content/uploads/2024/06/Sport_photography_berlin_nisman-scaled.jpg
ORGANIZER;CN="NAME":MAILTO:Emal
END:VEVENT
BEGIN:VEVENT
DTSTART;TZID=Europe/Berlin:20270923T091500
DTEND;TZID=Europe/Berlin:20270923T100000
DTSTAMP:20260420T021222
CREATED:20250408T105716Z
LAST-MODIFIED:20250408T105716Z
UID:10003082-1821690900-1821693600@raysepilates.com
SUMMARY:REFORMER LEVEL 1
DESCRIPTION:Reformer Training in Berlin with previous experience or beginner.
URL:https://raysepilates.com/event/beginner-reformer-training-berlin/2027-09-23/
LOCATION:Unser Studio\, Urbanstr. 131\, Berlin\, 10967\, Deutschland
CATEGORIES:berlin schedule
ATTACH;FMTTYPE=image/jpeg:https://raysepilates.com/wp-content/uploads/2024/06/DSCF8318-scaled.jpg
END:VEVENT
BEGIN:VEVENT
DTSTART;TZID=Europe/Berlin:20270924T073000
DTEND;TZID=Europe/Berlin:20270924T083000
DTSTAMP:20260420T021222
CREATED:20250603T130913Z
LAST-MODIFIED:20250603T130943Z
UID:10004172-1821771000-1821774600@raysepilates.com
SUMMARY:NOI ESSENTIALS REFORMER
DESCRIPTION:Reformer Training in Berlin for beginners.
URL:https://raysepilates.com/event/noi-essentials-reformer-beginner-2/2027-09-24/
LOCATION:NOI Studios\, Spielhagenstraße 7\, Berlin\, 10585\, Germany
CATEGORIES:berlin schedule
ATTACH;FMTTYPE=image/jpeg:https://raysepilates.com/wp-content/uploads/2024/06/DSCF8318-scaled.jpg
END:VEVENT
BEGIN:VEVENT
DTSTART;TZID=Europe/Berlin:20270924T083500
DTEND;TZID=Europe/Berlin:20270924T093000
DTSTAMP:20260420T021222
CREATED:20250603T131243Z
LAST-MODIFIED:20250603T131243Z
UID:10005214-1821774900-1821778200@raysepilates.com
SUMMARY:NOI SIGNATURE REFORMER
DESCRIPTION:Reformer Training in Berlin with previous experience.
URL:https://raysepilates.com/event/noi-signature-reformer/2027-09-24/
LOCATION:NOI Studios\, Spielhagenstraße 7\, Berlin\, 10585\, Germany
CATEGORIES:berlin schedule
ATTACH;FMTTYPE=image/jpeg:https://raysepilates.com/wp-content/uploads/2024/06/DSCF8318-scaled.jpg
END:VEVENT
BEGIN:VEVENT
DTSTART;TZID=Europe/Berlin:20270924T094500
DTEND;TZID=Europe/Berlin:20270924T103500
DTSTAMP:20260420T021222
CREATED:20250603T131056Z
LAST-MODIFIED:20250603T131056Z
UID:10004693-1821779100-1821782100@raysepilates.com
SUMMARY:NOI ESSENTIALS REFORMER
DESCRIPTION:Reformer Training in Berlin for beginners.
URL:https://raysepilates.com/event/noi-essentials-reformer/2027-09-24/
LOCATION:NOI Studios\, Spielhagenstraße 7\, Berlin\, 10585\, Germany
CATEGORIES:berlin schedule
ATTACH;FMTTYPE=image/jpeg:https://raysepilates.com/wp-content/uploads/2024/06/DSCF8318-scaled.jpg
END:VEVENT
BEGIN:VEVENT
DTSTART;TZID=Europe/Berlin:20270927T091500
DTEND;TZID=Europe/Berlin:20270927T101500
DTSTAMP:20260420T021222
CREATED:20240628T163638Z
LAST-MODIFIED:20240707T155331Z
UID:10000947-1822036500-1822040100@raysepilates.com
SUMMARY:REFORMER LEVEL 1
DESCRIPTION:Reformer training with previous experience.
URL:https://raysepilates.com/event/dienstag-17uhr-studio-xy-kurs-z/2027-09-27/
LOCATION:The Body In Balance\, Kreuzbergstraße 30\, Viktoria Hof\, Aufgang 3 | 4.OG\, Berlin\, 10965\, Deutschland
CATEGORIES:berlin schedule
ATTACH;FMTTYPE=image/jpeg:https://raysepilates.com/wp-content/uploads/2024/06/DSCF8318-scaled.jpg
END:VEVENT
BEGIN:VEVENT
DTSTART;TZID=Europe/Berlin:20270930T081500
DTEND;TZID=Europe/Berlin:20270930T090000
DTSTAMP:20260420T021222
CREATED:20250408T110012Z
LAST-MODIFIED:20250408T110012Z
UID:10003382-1822292100-1822294800@raysepilates.com
SUMMARY:PILATES MORNING FLOW
DESCRIPTION:Mat training with equipment (theraband\, foam roller\, magic circle\, soft ball). Suitable for beginners with previous experience.
URL:https://raysepilates.com/event/pilates-mat-berlin-kreuzberg/2027-09-30/
LOCATION:Unser Studio\, Urbanstr. 131\, Berlin\, 10967\, Deutschland
CATEGORIES:berlin schedule
ATTACH;FMTTYPE=image/jpeg:https://raysepilates.com/wp-content/uploads/2024/06/Sport_photography_berlin_nisman-scaled.jpg
ORGANIZER;CN="NAME":MAILTO:Emal
END:VEVENT
BEGIN:VEVENT
DTSTART;TZID=Europe/Berlin:20270930T091500
DTEND;TZID=Europe/Berlin:20270930T100000
DTSTAMP:20260420T021222
CREATED:20250408T105716Z
LAST-MODIFIED:20250408T105716Z
UID:10003083-1822295700-1822298400@raysepilates.com
SUMMARY:REFORMER LEVEL 1
DESCRIPTION:Reformer Training in Berlin with previous experience or beginner.
URL:https://raysepilates.com/event/beginner-reformer-training-berlin/2027-09-30/
LOCATION:Unser Studio\, Urbanstr. 131\, Berlin\, 10967\, Deutschland
CATEGORIES:berlin schedule
ATTACH;FMTTYPE=image/jpeg:https://raysepilates.com/wp-content/uploads/2024/06/DSCF8318-scaled.jpg
END:VEVENT
BEGIN:VEVENT
DTSTART;TZID=Europe/Berlin:20271001T073000
DTEND;TZID=Europe/Berlin:20271001T083000
DTSTAMP:20260420T021222
CREATED:20250603T130913Z
LAST-MODIFIED:20250603T130943Z
UID:10004173-1822375800-1822379400@raysepilates.com
SUMMARY:NOI ESSENTIALS REFORMER
DESCRIPTION:Reformer Training in Berlin for beginners.
URL:https://raysepilates.com/event/noi-essentials-reformer-beginner-2/2027-10-01/
LOCATION:NOI Studios\, Spielhagenstraße 7\, Berlin\, 10585\, Germany
CATEGORIES:berlin schedule
ATTACH;FMTTYPE=image/jpeg:https://raysepilates.com/wp-content/uploads/2024/06/DSCF8318-scaled.jpg
END:VEVENT
BEGIN:VEVENT
DTSTART;TZID=Europe/Berlin:20271001T083500
DTEND;TZID=Europe/Berlin:20271001T093000
DTSTAMP:20260420T021222
CREATED:20250603T131243Z
LAST-MODIFIED:20250603T131243Z
UID:10005215-1822379700-1822383000@raysepilates.com
SUMMARY:NOI SIGNATURE REFORMER
DESCRIPTION:Reformer Training in Berlin with previous experience.
URL:https://raysepilates.com/event/noi-signature-reformer/2027-10-01/
LOCATION:NOI Studios\, Spielhagenstraße 7\, Berlin\, 10585\, Germany
CATEGORIES:berlin schedule
ATTACH;FMTTYPE=image/jpeg:https://raysepilates.com/wp-content/uploads/2024/06/DSCF8318-scaled.jpg
END:VEVENT
BEGIN:VEVENT
DTSTART;TZID=Europe/Berlin:20271001T094500
DTEND;TZID=Europe/Berlin:20271001T103500
DTSTAMP:20260420T021222
CREATED:20250603T131056Z
LAST-MODIFIED:20250603T131056Z
UID:10004694-1822383900-1822386900@raysepilates.com
SUMMARY:NOI ESSENTIALS REFORMER
DESCRIPTION:Reformer Training in Berlin for beginners.
URL:https://raysepilates.com/event/noi-essentials-reformer/2027-10-01/
LOCATION:NOI Studios\, Spielhagenstraße 7\, Berlin\, 10585\, Germany
CATEGORIES:berlin schedule
ATTACH;FMTTYPE=image/jpeg:https://raysepilates.com/wp-content/uploads/2024/06/DSCF8318-scaled.jpg
END:VEVENT
BEGIN:VEVENT
DTSTART;TZID=Europe/Berlin:20271004T091500
DTEND;TZID=Europe/Berlin:20271004T101500
DTSTAMP:20260420T021222
CREATED:20240628T163638Z
LAST-MODIFIED:20240707T155331Z
UID:10000948-1822641300-1822644900@raysepilates.com
SUMMARY:REFORMER LEVEL 1
DESCRIPTION:Reformer training with previous experience.
URL:https://raysepilates.com/event/dienstag-17uhr-studio-xy-kurs-z/2027-10-04/
LOCATION:The Body In Balance\, Kreuzbergstraße 30\, Viktoria Hof\, Aufgang 3 | 4.OG\, Berlin\, 10965\, Deutschland
CATEGORIES:berlin schedule
ATTACH;FMTTYPE=image/jpeg:https://raysepilates.com/wp-content/uploads/2024/06/DSCF8318-scaled.jpg
END:VEVENT
BEGIN:VEVENT
DTSTART;TZID=Europe/Berlin:20271007T081500
DTEND;TZID=Europe/Berlin:20271007T090000
DTSTAMP:20260420T021222
CREATED:20250408T110012Z
LAST-MODIFIED:20250408T110012Z
UID:10003383-1822896900-1822899600@raysepilates.com
SUMMARY:PILATES MORNING FLOW
DESCRIPTION:Mat training with equipment (theraband\, foam roller\, magic circle\, soft ball). Suitable for beginners with previous experience.
URL:https://raysepilates.com/event/pilates-mat-berlin-kreuzberg/2027-10-07/
LOCATION:Unser Studio\, Urbanstr. 131\, Berlin\, 10967\, Deutschland
CATEGORIES:berlin schedule
ATTACH;FMTTYPE=image/jpeg:https://raysepilates.com/wp-content/uploads/2024/06/Sport_photography_berlin_nisman-scaled.jpg
ORGANIZER;CN="NAME":MAILTO:Emal
END:VEVENT
BEGIN:VEVENT
DTSTART;TZID=Europe/Berlin:20271007T091500
DTEND;TZID=Europe/Berlin:20271007T100000
DTSTAMP:20260420T021222
CREATED:20250408T105716Z
LAST-MODIFIED:20250408T105716Z
UID:10003084-1822900500-1822903200@raysepilates.com
SUMMARY:REFORMER LEVEL 1
DESCRIPTION:Reformer Training in Berlin with previous experience or beginner.
URL:https://raysepilates.com/event/beginner-reformer-training-berlin/2027-10-07/
LOCATION:Unser Studio\, Urbanstr. 131\, Berlin\, 10967\, Deutschland
CATEGORIES:berlin schedule
ATTACH;FMTTYPE=image/jpeg:https://raysepilates.com/wp-content/uploads/2024/06/DSCF8318-scaled.jpg
END:VEVENT
BEGIN:VEVENT
DTSTART;TZID=Europe/Berlin:20271008T073000
DTEND;TZID=Europe/Berlin:20271008T083000
DTSTAMP:20260420T021222
CREATED:20250603T130913Z
LAST-MODIFIED:20250603T130943Z
UID:10004174-1822980600-1822984200@raysepilates.com
SUMMARY:NOI ESSENTIALS REFORMER
DESCRIPTION:Reformer Training in Berlin for beginners.
URL:https://raysepilates.com/event/noi-essentials-reformer-beginner-2/2027-10-08/
LOCATION:NOI Studios\, Spielhagenstraße 7\, Berlin\, 10585\, Germany
CATEGORIES:berlin schedule
ATTACH;FMTTYPE=image/jpeg:https://raysepilates.com/wp-content/uploads/2024/06/DSCF8318-scaled.jpg
END:VEVENT
BEGIN:VEVENT
DTSTART;TZID=Europe/Berlin:20271008T083500
DTEND;TZID=Europe/Berlin:20271008T093000
DTSTAMP:20260420T021222
CREATED:20250603T131243Z
LAST-MODIFIED:20250603T131243Z
UID:10005216-1822984500-1822987800@raysepilates.com
SUMMARY:NOI SIGNATURE REFORMER
DESCRIPTION:Reformer Training in Berlin with previous experience.
URL:https://raysepilates.com/event/noi-signature-reformer/2027-10-08/
LOCATION:NOI Studios\, Spielhagenstraße 7\, Berlin\, 10585\, Germany
CATEGORIES:berlin schedule
ATTACH;FMTTYPE=image/jpeg:https://raysepilates.com/wp-content/uploads/2024/06/DSCF8318-scaled.jpg
END:VEVENT
BEGIN:VEVENT
DTSTART;TZID=Europe/Berlin:20271008T094500
DTEND;TZID=Europe/Berlin:20271008T103500
DTSTAMP:20260420T021222
CREATED:20250603T131056Z
LAST-MODIFIED:20250603T131056Z
UID:10004695-1822988700-1822991700@raysepilates.com
SUMMARY:NOI ESSENTIALS REFORMER
DESCRIPTION:Reformer Training in Berlin for beginners.
URL:https://raysepilates.com/event/noi-essentials-reformer/2027-10-08/
LOCATION:NOI Studios\, Spielhagenstraße 7\, Berlin\, 10585\, Germany
CATEGORIES:berlin schedule
ATTACH;FMTTYPE=image/jpeg:https://raysepilates.com/wp-content/uploads/2024/06/DSCF8318-scaled.jpg
END:VEVENT
BEGIN:VEVENT
DTSTART;TZID=Europe/Berlin:20271011T091500
DTEND;TZID=Europe/Berlin:20271011T101500
DTSTAMP:20260420T021222
CREATED:20240628T163638Z
LAST-MODIFIED:20240707T155331Z
UID:10000949-1823246100-1823249700@raysepilates.com
SUMMARY:REFORMER LEVEL 1
DESCRIPTION:Reformer training with previous experience.
URL:https://raysepilates.com/event/dienstag-17uhr-studio-xy-kurs-z/2027-10-11/
LOCATION:The Body In Balance\, Kreuzbergstraße 30\, Viktoria Hof\, Aufgang 3 | 4.OG\, Berlin\, 10965\, Deutschland
CATEGORIES:berlin schedule
ATTACH;FMTTYPE=image/jpeg:https://raysepilates.com/wp-content/uploads/2024/06/DSCF8318-scaled.jpg
END:VEVENT
BEGIN:VEVENT
DTSTART;TZID=Europe/Berlin:20271014T081500
DTEND;TZID=Europe/Berlin:20271014T090000
DTSTAMP:20260420T021222
CREATED:20250408T110012Z
LAST-MODIFIED:20250408T110012Z
UID:10003384-1823501700-1823504400@raysepilates.com
SUMMARY:PILATES MORNING FLOW
DESCRIPTION:Mat training with equipment (theraband\, foam roller\, magic circle\, soft ball). Suitable for beginners with previous experience.
URL:https://raysepilates.com/event/pilates-mat-berlin-kreuzberg/2027-10-14/
LOCATION:Unser Studio\, Urbanstr. 131\, Berlin\, 10967\, Deutschland
CATEGORIES:berlin schedule
ATTACH;FMTTYPE=image/jpeg:https://raysepilates.com/wp-content/uploads/2024/06/Sport_photography_berlin_nisman-scaled.jpg
ORGANIZER;CN="NAME":MAILTO:Emal
END:VEVENT
BEGIN:VEVENT
DTSTART;TZID=Europe/Berlin:20271014T091500
DTEND;TZID=Europe/Berlin:20271014T100000
DTSTAMP:20260420T021222
CREATED:20250408T105716Z
LAST-MODIFIED:20250408T105716Z
UID:10003085-1823505300-1823508000@raysepilates.com
SUMMARY:REFORMER LEVEL 1
DESCRIPTION:Reformer Training in Berlin with previous experience or beginner.
URL:https://raysepilates.com/event/beginner-reformer-training-berlin/2027-10-14/
LOCATION:Unser Studio\, Urbanstr. 131\, Berlin\, 10967\, Deutschland
CATEGORIES:berlin schedule
ATTACH;FMTTYPE=image/jpeg:https://raysepilates.com/wp-content/uploads/2024/06/DSCF8318-scaled.jpg
END:VEVENT
BEGIN:VEVENT
DTSTART;TZID=Europe/Berlin:20271015T073000
DTEND;TZID=Europe/Berlin:20271015T083000
DTSTAMP:20260420T021222
CREATED:20250603T130913Z
LAST-MODIFIED:20250603T130943Z
UID:10004175-1823585400-1823589000@raysepilates.com
SUMMARY:NOI ESSENTIALS REFORMER
DESCRIPTION:Reformer Training in Berlin for beginners.
URL:https://raysepilates.com/event/noi-essentials-reformer-beginner-2/2027-10-15/
LOCATION:NOI Studios\, Spielhagenstraße 7\, Berlin\, 10585\, Germany
CATEGORIES:berlin schedule
ATTACH;FMTTYPE=image/jpeg:https://raysepilates.com/wp-content/uploads/2024/06/DSCF8318-scaled.jpg
END:VEVENT
BEGIN:VEVENT
DTSTART;TZID=Europe/Berlin:20271015T083500
DTEND;TZID=Europe/Berlin:20271015T093000
DTSTAMP:20260420T021222
CREATED:20250603T131243Z
LAST-MODIFIED:20250603T131243Z
UID:10005217-1823589300-1823592600@raysepilates.com
SUMMARY:NOI SIGNATURE REFORMER
DESCRIPTION:Reformer Training in Berlin with previous experience.
URL:https://raysepilates.com/event/noi-signature-reformer/2027-10-15/
LOCATION:NOI Studios\, Spielhagenstraße 7\, Berlin\, 10585\, Germany
CATEGORIES:berlin schedule
ATTACH;FMTTYPE=image/jpeg:https://raysepilates.com/wp-content/uploads/2024/06/DSCF8318-scaled.jpg
END:VEVENT
BEGIN:VEVENT
DTSTART;TZID=Europe/Berlin:20271015T094500
DTEND;TZID=Europe/Berlin:20271015T103500
DTSTAMP:20260420T021222
CREATED:20250603T131056Z
LAST-MODIFIED:20250603T131056Z
UID:10004696-1823593500-1823596500@raysepilates.com
SUMMARY:NOI ESSENTIALS REFORMER
DESCRIPTION:Reformer Training in Berlin for beginners.
URL:https://raysepilates.com/event/noi-essentials-reformer/2027-10-15/
LOCATION:NOI Studios\, Spielhagenstraße 7\, Berlin\, 10585\, Germany
CATEGORIES:berlin schedule
ATTACH;FMTTYPE=image/jpeg:https://raysepilates.com/wp-content/uploads/2024/06/DSCF8318-scaled.jpg
END:VEVENT
BEGIN:VEVENT
DTSTART;TZID=Europe/Berlin:20271018T091500
DTEND;TZID=Europe/Berlin:20271018T101500
DTSTAMP:20260420T021222
CREATED:20240628T163638Z
LAST-MODIFIED:20240707T155331Z
UID:10000950-1823850900-1823854500@raysepilates.com
SUMMARY:REFORMER LEVEL 1
DESCRIPTION:Reformer training with previous experience.
URL:https://raysepilates.com/event/dienstag-17uhr-studio-xy-kurs-z/2027-10-18/
LOCATION:The Body In Balance\, Kreuzbergstraße 30\, Viktoria Hof\, Aufgang 3 | 4.OG\, Berlin\, 10965\, Deutschland
CATEGORIES:berlin schedule
ATTACH;FMTTYPE=image/jpeg:https://raysepilates.com/wp-content/uploads/2024/06/DSCF8318-scaled.jpg
END:VEVENT
BEGIN:VEVENT
DTSTART;TZID=Europe/Berlin:20271021T081500
DTEND;TZID=Europe/Berlin:20271021T090000
DTSTAMP:20260420T021222
CREATED:20250408T110012Z
LAST-MODIFIED:20250408T110012Z
UID:10003385-1824106500-1824109200@raysepilates.com
SUMMARY:PILATES MORNING FLOW
DESCRIPTION:Mat training with equipment (theraband\, foam roller\, magic circle\, soft ball). Suitable for beginners with previous experience.
URL:https://raysepilates.com/event/pilates-mat-berlin-kreuzberg/2027-10-21/
LOCATION:Unser Studio\, Urbanstr. 131\, Berlin\, 10967\, Deutschland
CATEGORIES:berlin schedule
ATTACH;FMTTYPE=image/jpeg:https://raysepilates.com/wp-content/uploads/2024/06/Sport_photography_berlin_nisman-scaled.jpg
ORGANIZER;CN="NAME":MAILTO:Emal
END:VEVENT
BEGIN:VEVENT
DTSTART;TZID=Europe/Berlin:20271021T091500
DTEND;TZID=Europe/Berlin:20271021T100000
DTSTAMP:20260420T021222
CREATED:20250408T105716Z
LAST-MODIFIED:20250408T105716Z
UID:10003086-1824110100-1824112800@raysepilates.com
SUMMARY:REFORMER LEVEL 1
DESCRIPTION:Reformer Training in Berlin with previous experience or beginner.
URL:https://raysepilates.com/event/beginner-reformer-training-berlin/2027-10-21/
LOCATION:Unser Studio\, Urbanstr. 131\, Berlin\, 10967\, Deutschland
CATEGORIES:berlin schedule
ATTACH;FMTTYPE=image/jpeg:https://raysepilates.com/wp-content/uploads/2024/06/DSCF8318-scaled.jpg
END:VEVENT
END:VCALENDAR