BEGIN:VCALENDAR
VERSION:2.0
PRODID:-//RAYSE. PILATES - ECPv6.11.2//NONSGML v1.0//EN
CALSCALE:GREGORIAN
METHOD:PUBLISH
X-ORIGINAL-URL:https://raysepilates.com
X-WR-CALDESC:Events for RAYSE. PILATES
REFRESH-INTERVAL;VALUE=DURATION:PT1H
X-Robots-Tag:noindex
X-PUBLISHED-TTL:PT1H
BEGIN:VTIMEZONE
TZID:Europe/Berlin
BEGIN:DAYLIGHT
TZOFFSETFROM:+0100
TZOFFSETTO:+0200
TZNAME:CEST
DTSTART:20270328T010000
END:DAYLIGHT
BEGIN:STANDARD
TZOFFSETFROM:+0200
TZOFFSETTO:+0100
TZNAME:CET
DTSTART:20271031T010000
END:STANDARD
END:VTIMEZONE
BEGIN:VEVENT
DTSTART;TZID=Europe/Berlin:20271126T073000
DTEND;TZID=Europe/Berlin:20271126T083000
DTSTAMP:20260420T113100
CREATED:20250603T130913Z
LAST-MODIFIED:20250603T130943Z
UID:10004181-1827214200-1827217800@raysepilates.com
SUMMARY:NOI ESSENTIALS REFORMER
DESCRIPTION:Reformer Training in Berlin for beginners.
URL:https://raysepilates.com/event/noi-essentials-reformer-beginner-2/2027-11-26/
LOCATION:NOI Studios\, Spielhagenstraße 7\, Berlin\, 10585\, Germany
CATEGORIES:berlin schedule
ATTACH;FMTTYPE=image/jpeg:https://raysepilates.com/wp-content/uploads/2024/06/DSCF8318-scaled.jpg
END:VEVENT
BEGIN:VEVENT
DTSTART;TZID=Europe/Berlin:20271126T083500
DTEND;TZID=Europe/Berlin:20271126T093000
DTSTAMP:20260420T113100
CREATED:20250603T131243Z
LAST-MODIFIED:20250603T131243Z
UID:10005223-1827218100-1827221400@raysepilates.com
SUMMARY:NOI SIGNATURE REFORMER
DESCRIPTION:Reformer Training in Berlin with previous experience.
URL:https://raysepilates.com/event/noi-signature-reformer/2027-11-26/
LOCATION:NOI Studios\, Spielhagenstraße 7\, Berlin\, 10585\, Germany
CATEGORIES:berlin schedule
ATTACH;FMTTYPE=image/jpeg:https://raysepilates.com/wp-content/uploads/2024/06/DSCF8318-scaled.jpg
END:VEVENT
BEGIN:VEVENT
DTSTART;TZID=Europe/Berlin:20271126T094500
DTEND;TZID=Europe/Berlin:20271126T103500
DTSTAMP:20260420T113100
CREATED:20250603T131056Z
LAST-MODIFIED:20250603T131056Z
UID:10004702-1827222300-1827225300@raysepilates.com
SUMMARY:NOI ESSENTIALS REFORMER
DESCRIPTION:Reformer Training in Berlin for beginners.
URL:https://raysepilates.com/event/noi-essentials-reformer/2027-11-26/
LOCATION:NOI Studios\, Spielhagenstraße 7\, Berlin\, 10585\, Germany
CATEGORIES:berlin schedule
ATTACH;FMTTYPE=image/jpeg:https://raysepilates.com/wp-content/uploads/2024/06/DSCF8318-scaled.jpg
END:VEVENT
BEGIN:VEVENT
DTSTART;TZID=Europe/Berlin:20271129T091500
DTEND;TZID=Europe/Berlin:20271129T101500
DTSTAMP:20260420T113100
CREATED:20240628T163638Z
LAST-MODIFIED:20240707T155331Z
UID:10000956-1827479700-1827483300@raysepilates.com
SUMMARY:REFORMER LEVEL 1
DESCRIPTION:Reformer training with previous experience.
URL:https://raysepilates.com/event/dienstag-17uhr-studio-xy-kurs-z/2027-11-29/
LOCATION:The Body In Balance\, Kreuzbergstraße 30\, Viktoria Hof\, Aufgang 3 | 4.OG\, Berlin\, 10965\, Deutschland
CATEGORIES:berlin schedule
ATTACH;FMTTYPE=image/jpeg:https://raysepilates.com/wp-content/uploads/2024/06/DSCF8318-scaled.jpg
END:VEVENT
BEGIN:VEVENT
DTSTART;TZID=Europe/Berlin:20271202T081500
DTEND;TZID=Europe/Berlin:20271202T090000
DTSTAMP:20260420T113100
CREATED:20250408T110012Z
LAST-MODIFIED:20250408T110012Z
UID:10003391-1827735300-1827738000@raysepilates.com
SUMMARY:PILATES MORNING FLOW
DESCRIPTION:Mat training with equipment (theraband\, foam roller\, magic circle\, soft ball). Suitable for beginners with previous experience.
URL:https://raysepilates.com/event/pilates-mat-berlin-kreuzberg/2027-12-02/
LOCATION:Unser Studio\, Urbanstr. 131\, Berlin\, 10967\, Deutschland
CATEGORIES:berlin schedule
ATTACH;FMTTYPE=image/jpeg:https://raysepilates.com/wp-content/uploads/2024/06/Sport_photography_berlin_nisman-scaled.jpg
ORGANIZER;CN="NAME":MAILTO:Emal
END:VEVENT
BEGIN:VEVENT
DTSTART;TZID=Europe/Berlin:20271202T091500
DTEND;TZID=Europe/Berlin:20271202T100000
DTSTAMP:20260420T113100
CREATED:20250408T105716Z
LAST-MODIFIED:20250408T105716Z
UID:10003092-1827738900-1827741600@raysepilates.com
SUMMARY:REFORMER LEVEL 1
DESCRIPTION:Reformer Training in Berlin with previous experience or beginner.
URL:https://raysepilates.com/event/beginner-reformer-training-berlin/2027-12-02/
LOCATION:Unser Studio\, Urbanstr. 131\, Berlin\, 10967\, Deutschland
CATEGORIES:berlin schedule
ATTACH;FMTTYPE=image/jpeg:https://raysepilates.com/wp-content/uploads/2024/06/DSCF8318-scaled.jpg
END:VEVENT
BEGIN:VEVENT
DTSTART;TZID=Europe/Berlin:20271203T073000
DTEND;TZID=Europe/Berlin:20271203T083000
DTSTAMP:20260420T113100
CREATED:20250603T130913Z
LAST-MODIFIED:20250603T130943Z
UID:10004182-1827819000-1827822600@raysepilates.com
SUMMARY:NOI ESSENTIALS REFORMER
DESCRIPTION:Reformer Training in Berlin for beginners.
URL:https://raysepilates.com/event/noi-essentials-reformer-beginner-2/2027-12-03/
LOCATION:NOI Studios\, Spielhagenstraße 7\, Berlin\, 10585\, Germany
CATEGORIES:berlin schedule
ATTACH;FMTTYPE=image/jpeg:https://raysepilates.com/wp-content/uploads/2024/06/DSCF8318-scaled.jpg
END:VEVENT
BEGIN:VEVENT
DTSTART;TZID=Europe/Berlin:20271203T083500
DTEND;TZID=Europe/Berlin:20271203T093000
DTSTAMP:20260420T113100
CREATED:20250603T131243Z
LAST-MODIFIED:20250603T131243Z
UID:10005224-1827822900-1827826200@raysepilates.com
SUMMARY:NOI SIGNATURE REFORMER
DESCRIPTION:Reformer Training in Berlin with previous experience.
URL:https://raysepilates.com/event/noi-signature-reformer/2027-12-03/
LOCATION:NOI Studios\, Spielhagenstraße 7\, Berlin\, 10585\, Germany
CATEGORIES:berlin schedule
ATTACH;FMTTYPE=image/jpeg:https://raysepilates.com/wp-content/uploads/2024/06/DSCF8318-scaled.jpg
END:VEVENT
BEGIN:VEVENT
DTSTART;TZID=Europe/Berlin:20271203T094500
DTEND;TZID=Europe/Berlin:20271203T103500
DTSTAMP:20260420T113100
CREATED:20250603T131056Z
LAST-MODIFIED:20250603T131056Z
UID:10004703-1827827100-1827830100@raysepilates.com
SUMMARY:NOI ESSENTIALS REFORMER
DESCRIPTION:Reformer Training in Berlin for beginners.
URL:https://raysepilates.com/event/noi-essentials-reformer/2027-12-03/
LOCATION:NOI Studios\, Spielhagenstraße 7\, Berlin\, 10585\, Germany
CATEGORIES:berlin schedule
ATTACH;FMTTYPE=image/jpeg:https://raysepilates.com/wp-content/uploads/2024/06/DSCF8318-scaled.jpg
END:VEVENT
BEGIN:VEVENT
DTSTART;TZID=Europe/Berlin:20271206T091500
DTEND;TZID=Europe/Berlin:20271206T101500
DTSTAMP:20260420T113100
CREATED:20240628T163638Z
LAST-MODIFIED:20240707T155331Z
UID:10000957-1828084500-1828088100@raysepilates.com
SUMMARY:REFORMER LEVEL 1
DESCRIPTION:Reformer training with previous experience.
URL:https://raysepilates.com/event/dienstag-17uhr-studio-xy-kurs-z/2027-12-06/
LOCATION:The Body In Balance\, Kreuzbergstraße 30\, Viktoria Hof\, Aufgang 3 | 4.OG\, Berlin\, 10965\, Deutschland
CATEGORIES:berlin schedule
ATTACH;FMTTYPE=image/jpeg:https://raysepilates.com/wp-content/uploads/2024/06/DSCF8318-scaled.jpg
END:VEVENT
BEGIN:VEVENT
DTSTART;TZID=Europe/Berlin:20271209T081500
DTEND;TZID=Europe/Berlin:20271209T090000
DTSTAMP:20260420T113100
CREATED:20250408T110012Z
LAST-MODIFIED:20250408T110012Z
UID:10003392-1828340100-1828342800@raysepilates.com
SUMMARY:PILATES MORNING FLOW
DESCRIPTION:Mat training with equipment (theraband\, foam roller\, magic circle\, soft ball). Suitable for beginners with previous experience.
URL:https://raysepilates.com/event/pilates-mat-berlin-kreuzberg/2027-12-09/
LOCATION:Unser Studio\, Urbanstr. 131\, Berlin\, 10967\, Deutschland
CATEGORIES:berlin schedule
ATTACH;FMTTYPE=image/jpeg:https://raysepilates.com/wp-content/uploads/2024/06/Sport_photography_berlin_nisman-scaled.jpg
ORGANIZER;CN="NAME":MAILTO:Emal
END:VEVENT
BEGIN:VEVENT
DTSTART;TZID=Europe/Berlin:20271209T091500
DTEND;TZID=Europe/Berlin:20271209T100000
DTSTAMP:20260420T113100
CREATED:20250408T105716Z
LAST-MODIFIED:20250408T105716Z
UID:10003093-1828343700-1828346400@raysepilates.com
SUMMARY:REFORMER LEVEL 1
DESCRIPTION:Reformer Training in Berlin with previous experience or beginner.
URL:https://raysepilates.com/event/beginner-reformer-training-berlin/2027-12-09/
LOCATION:Unser Studio\, Urbanstr. 131\, Berlin\, 10967\, Deutschland
CATEGORIES:berlin schedule
ATTACH;FMTTYPE=image/jpeg:https://raysepilates.com/wp-content/uploads/2024/06/DSCF8318-scaled.jpg
END:VEVENT
BEGIN:VEVENT
DTSTART;TZID=Europe/Berlin:20271210T073000
DTEND;TZID=Europe/Berlin:20271210T083000
DTSTAMP:20260420T113100
CREATED:20250603T130913Z
LAST-MODIFIED:20250603T130943Z
UID:10004183-1828423800-1828427400@raysepilates.com
SUMMARY:NOI ESSENTIALS REFORMER
DESCRIPTION:Reformer Training in Berlin for beginners.
URL:https://raysepilates.com/event/noi-essentials-reformer-beginner-2/2027-12-10/
LOCATION:NOI Studios\, Spielhagenstraße 7\, Berlin\, 10585\, Germany
CATEGORIES:berlin schedule
ATTACH;FMTTYPE=image/jpeg:https://raysepilates.com/wp-content/uploads/2024/06/DSCF8318-scaled.jpg
END:VEVENT
BEGIN:VEVENT
DTSTART;TZID=Europe/Berlin:20271210T083500
DTEND;TZID=Europe/Berlin:20271210T093000
DTSTAMP:20260420T113100
CREATED:20250603T131243Z
LAST-MODIFIED:20250603T131243Z
UID:10005225-1828427700-1828431000@raysepilates.com
SUMMARY:NOI SIGNATURE REFORMER
DESCRIPTION:Reformer Training in Berlin with previous experience.
URL:https://raysepilates.com/event/noi-signature-reformer/2027-12-10/
LOCATION:NOI Studios\, Spielhagenstraße 7\, Berlin\, 10585\, Germany
CATEGORIES:berlin schedule
ATTACH;FMTTYPE=image/jpeg:https://raysepilates.com/wp-content/uploads/2024/06/DSCF8318-scaled.jpg
END:VEVENT
BEGIN:VEVENT
DTSTART;TZID=Europe/Berlin:20271210T094500
DTEND;TZID=Europe/Berlin:20271210T103500
DTSTAMP:20260420T113100
CREATED:20250603T131056Z
LAST-MODIFIED:20250603T131056Z
UID:10004704-1828431900-1828434900@raysepilates.com
SUMMARY:NOI ESSENTIALS REFORMER
DESCRIPTION:Reformer Training in Berlin for beginners.
URL:https://raysepilates.com/event/noi-essentials-reformer/2027-12-10/
LOCATION:NOI Studios\, Spielhagenstraße 7\, Berlin\, 10585\, Germany
CATEGORIES:berlin schedule
ATTACH;FMTTYPE=image/jpeg:https://raysepilates.com/wp-content/uploads/2024/06/DSCF8318-scaled.jpg
END:VEVENT
BEGIN:VEVENT
DTSTART;TZID=Europe/Berlin:20271213T091500
DTEND;TZID=Europe/Berlin:20271213T101500
DTSTAMP:20260420T113100
CREATED:20240628T163638Z
LAST-MODIFIED:20240707T155331Z
UID:10000958-1828689300-1828692900@raysepilates.com
SUMMARY:REFORMER LEVEL 1
DESCRIPTION:Reformer training with previous experience.
URL:https://raysepilates.com/event/dienstag-17uhr-studio-xy-kurs-z/2027-12-13/
LOCATION:The Body In Balance\, Kreuzbergstraße 30\, Viktoria Hof\, Aufgang 3 | 4.OG\, Berlin\, 10965\, Deutschland
CATEGORIES:berlin schedule
ATTACH;FMTTYPE=image/jpeg:https://raysepilates.com/wp-content/uploads/2024/06/DSCF8318-scaled.jpg
END:VEVENT
BEGIN:VEVENT
DTSTART;TZID=Europe/Berlin:20271216T081500
DTEND;TZID=Europe/Berlin:20271216T090000
DTSTAMP:20260420T113100
CREATED:20250408T110012Z
LAST-MODIFIED:20250408T110012Z
UID:10003393-1828944900-1828947600@raysepilates.com
SUMMARY:PILATES MORNING FLOW
DESCRIPTION:Mat training with equipment (theraband\, foam roller\, magic circle\, soft ball). Suitable for beginners with previous experience.
URL:https://raysepilates.com/event/pilates-mat-berlin-kreuzberg/2027-12-16/
LOCATION:Unser Studio\, Urbanstr. 131\, Berlin\, 10967\, Deutschland
CATEGORIES:berlin schedule
ATTACH;FMTTYPE=image/jpeg:https://raysepilates.com/wp-content/uploads/2024/06/Sport_photography_berlin_nisman-scaled.jpg
ORGANIZER;CN="NAME":MAILTO:Emal
END:VEVENT
BEGIN:VEVENT
DTSTART;TZID=Europe/Berlin:20271216T091500
DTEND;TZID=Europe/Berlin:20271216T100000
DTSTAMP:20260420T113100
CREATED:20250408T105716Z
LAST-MODIFIED:20250408T105716Z
UID:10003094-1828948500-1828951200@raysepilates.com
SUMMARY:REFORMER LEVEL 1
DESCRIPTION:Reformer Training in Berlin with previous experience or beginner.
URL:https://raysepilates.com/event/beginner-reformer-training-berlin/2027-12-16/
LOCATION:Unser Studio\, Urbanstr. 131\, Berlin\, 10967\, Deutschland
CATEGORIES:berlin schedule
ATTACH;FMTTYPE=image/jpeg:https://raysepilates.com/wp-content/uploads/2024/06/DSCF8318-scaled.jpg
END:VEVENT
BEGIN:VEVENT
DTSTART;TZID=Europe/Berlin:20271217T073000
DTEND;TZID=Europe/Berlin:20271217T083000
DTSTAMP:20260420T113100
CREATED:20250603T130913Z
LAST-MODIFIED:20250603T130943Z
UID:10004184-1829028600-1829032200@raysepilates.com
SUMMARY:NOI ESSENTIALS REFORMER
DESCRIPTION:Reformer Training in Berlin for beginners.
URL:https://raysepilates.com/event/noi-essentials-reformer-beginner-2/2027-12-17/
LOCATION:NOI Studios\, Spielhagenstraße 7\, Berlin\, 10585\, Germany
CATEGORIES:berlin schedule
ATTACH;FMTTYPE=image/jpeg:https://raysepilates.com/wp-content/uploads/2024/06/DSCF8318-scaled.jpg
END:VEVENT
BEGIN:VEVENT
DTSTART;TZID=Europe/Berlin:20271217T083500
DTEND;TZID=Europe/Berlin:20271217T093000
DTSTAMP:20260420T113100
CREATED:20250603T131243Z
LAST-MODIFIED:20250603T131243Z
UID:10005226-1829032500-1829035800@raysepilates.com
SUMMARY:NOI SIGNATURE REFORMER
DESCRIPTION:Reformer Training in Berlin with previous experience.
URL:https://raysepilates.com/event/noi-signature-reformer/2027-12-17/
LOCATION:NOI Studios\, Spielhagenstraße 7\, Berlin\, 10585\, Germany
CATEGORIES:berlin schedule
ATTACH;FMTTYPE=image/jpeg:https://raysepilates.com/wp-content/uploads/2024/06/DSCF8318-scaled.jpg
END:VEVENT
BEGIN:VEVENT
DTSTART;TZID=Europe/Berlin:20271217T094500
DTEND;TZID=Europe/Berlin:20271217T103500
DTSTAMP:20260420T113100
CREATED:20250603T131056Z
LAST-MODIFIED:20250603T131056Z
UID:10004705-1829036700-1829039700@raysepilates.com
SUMMARY:NOI ESSENTIALS REFORMER
DESCRIPTION:Reformer Training in Berlin for beginners.
URL:https://raysepilates.com/event/noi-essentials-reformer/2027-12-17/
LOCATION:NOI Studios\, Spielhagenstraße 7\, Berlin\, 10585\, Germany
CATEGORIES:berlin schedule
ATTACH;FMTTYPE=image/jpeg:https://raysepilates.com/wp-content/uploads/2024/06/DSCF8318-scaled.jpg
END:VEVENT
BEGIN:VEVENT
DTSTART;TZID=Europe/Berlin:20271220T091500
DTEND;TZID=Europe/Berlin:20271220T101500
DTSTAMP:20260420T113100
CREATED:20240628T163638Z
LAST-MODIFIED:20240707T155331Z
UID:10000959-1829294100-1829297700@raysepilates.com
SUMMARY:REFORMER LEVEL 1
DESCRIPTION:Reformer training with previous experience.
URL:https://raysepilates.com/event/dienstag-17uhr-studio-xy-kurs-z/2027-12-20/
LOCATION:The Body In Balance\, Kreuzbergstraße 30\, Viktoria Hof\, Aufgang 3 | 4.OG\, Berlin\, 10965\, Deutschland
CATEGORIES:berlin schedule
ATTACH;FMTTYPE=image/jpeg:https://raysepilates.com/wp-content/uploads/2024/06/DSCF8318-scaled.jpg
END:VEVENT
BEGIN:VEVENT
DTSTART;TZID=Europe/Berlin:20271223T081500
DTEND;TZID=Europe/Berlin:20271223T090000
DTSTAMP:20260420T113100
CREATED:20250408T110012Z
LAST-MODIFIED:20250408T110012Z
UID:10003394-1829549700-1829552400@raysepilates.com
SUMMARY:PILATES MORNING FLOW
DESCRIPTION:Mat training with equipment (theraband\, foam roller\, magic circle\, soft ball). Suitable for beginners with previous experience.
URL:https://raysepilates.com/event/pilates-mat-berlin-kreuzberg/2027-12-23/
LOCATION:Unser Studio\, Urbanstr. 131\, Berlin\, 10967\, Deutschland
CATEGORIES:berlin schedule
ATTACH;FMTTYPE=image/jpeg:https://raysepilates.com/wp-content/uploads/2024/06/Sport_photography_berlin_nisman-scaled.jpg
ORGANIZER;CN="NAME":MAILTO:Emal
END:VEVENT
BEGIN:VEVENT
DTSTART;TZID=Europe/Berlin:20271223T091500
DTEND;TZID=Europe/Berlin:20271223T100000
DTSTAMP:20260420T113100
CREATED:20250408T105716Z
LAST-MODIFIED:20250408T105716Z
UID:10003095-1829553300-1829556000@raysepilates.com
SUMMARY:REFORMER LEVEL 1
DESCRIPTION:Reformer Training in Berlin with previous experience or beginner.
URL:https://raysepilates.com/event/beginner-reformer-training-berlin/2027-12-23/
LOCATION:Unser Studio\, Urbanstr. 131\, Berlin\, 10967\, Deutschland
CATEGORIES:berlin schedule
ATTACH;FMTTYPE=image/jpeg:https://raysepilates.com/wp-content/uploads/2024/06/DSCF8318-scaled.jpg
END:VEVENT
BEGIN:VEVENT
DTSTART;TZID=Europe/Berlin:20271224T073000
DTEND;TZID=Europe/Berlin:20271224T083000
DTSTAMP:20260420T113100
CREATED:20250603T130913Z
LAST-MODIFIED:20250603T130943Z
UID:10004185-1829633400-1829637000@raysepilates.com
SUMMARY:NOI ESSENTIALS REFORMER
DESCRIPTION:Reformer Training in Berlin for beginners.
URL:https://raysepilates.com/event/noi-essentials-reformer-beginner-2/2027-12-24/
LOCATION:NOI Studios\, Spielhagenstraße 7\, Berlin\, 10585\, Germany
CATEGORIES:berlin schedule
ATTACH;FMTTYPE=image/jpeg:https://raysepilates.com/wp-content/uploads/2024/06/DSCF8318-scaled.jpg
END:VEVENT
BEGIN:VEVENT
DTSTART;TZID=Europe/Berlin:20271224T083500
DTEND;TZID=Europe/Berlin:20271224T093000
DTSTAMP:20260420T113100
CREATED:20250603T131243Z
LAST-MODIFIED:20250603T131243Z
UID:10005227-1829637300-1829640600@raysepilates.com
SUMMARY:NOI SIGNATURE REFORMER
DESCRIPTION:Reformer Training in Berlin with previous experience.
URL:https://raysepilates.com/event/noi-signature-reformer/2027-12-24/
LOCATION:NOI Studios\, Spielhagenstraße 7\, Berlin\, 10585\, Germany
CATEGORIES:berlin schedule
ATTACH;FMTTYPE=image/jpeg:https://raysepilates.com/wp-content/uploads/2024/06/DSCF8318-scaled.jpg
END:VEVENT
BEGIN:VEVENT
DTSTART;TZID=Europe/Berlin:20271224T094500
DTEND;TZID=Europe/Berlin:20271224T103500
DTSTAMP:20260420T113100
CREATED:20250603T131056Z
LAST-MODIFIED:20250603T131056Z
UID:10004706-1829641500-1829644500@raysepilates.com
SUMMARY:NOI ESSENTIALS REFORMER
DESCRIPTION:Reformer Training in Berlin for beginners.
URL:https://raysepilates.com/event/noi-essentials-reformer/2027-12-24/
LOCATION:NOI Studios\, Spielhagenstraße 7\, Berlin\, 10585\, Germany
CATEGORIES:berlin schedule
ATTACH;FMTTYPE=image/jpeg:https://raysepilates.com/wp-content/uploads/2024/06/DSCF8318-scaled.jpg
END:VEVENT
BEGIN:VEVENT
DTSTART;TZID=Europe/Berlin:20271227T091500
DTEND;TZID=Europe/Berlin:20271227T101500
DTSTAMP:20260420T113100
CREATED:20240628T163638Z
LAST-MODIFIED:20240707T155331Z
UID:10000960-1829898900-1829902500@raysepilates.com
SUMMARY:REFORMER LEVEL 1
DESCRIPTION:Reformer training with previous experience.
URL:https://raysepilates.com/event/dienstag-17uhr-studio-xy-kurs-z/2027-12-27/
LOCATION:The Body In Balance\, Kreuzbergstraße 30\, Viktoria Hof\, Aufgang 3 | 4.OG\, Berlin\, 10965\, Deutschland
CATEGORIES:berlin schedule
ATTACH;FMTTYPE=image/jpeg:https://raysepilates.com/wp-content/uploads/2024/06/DSCF8318-scaled.jpg
END:VEVENT
BEGIN:VEVENT
DTSTART;TZID=Europe/Berlin:20271230T081500
DTEND;TZID=Europe/Berlin:20271230T090000
DTSTAMP:20260420T113100
CREATED:20250408T110012Z
LAST-MODIFIED:20250408T110012Z
UID:10003395-1830154500-1830157200@raysepilates.com
SUMMARY:PILATES MORNING FLOW
DESCRIPTION:Mat training with equipment (theraband\, foam roller\, magic circle\, soft ball). Suitable for beginners with previous experience.
URL:https://raysepilates.com/event/pilates-mat-berlin-kreuzberg/2027-12-30/
LOCATION:Unser Studio\, Urbanstr. 131\, Berlin\, 10967\, Deutschland
CATEGORIES:berlin schedule
ATTACH;FMTTYPE=image/jpeg:https://raysepilates.com/wp-content/uploads/2024/06/Sport_photography_berlin_nisman-scaled.jpg
ORGANIZER;CN="NAME":MAILTO:Emal
END:VEVENT
BEGIN:VEVENT
DTSTART;TZID=Europe/Berlin:20271230T091500
DTEND;TZID=Europe/Berlin:20271230T100000
DTSTAMP:20260420T113100
CREATED:20250408T105716Z
LAST-MODIFIED:20250408T105716Z
UID:10003096-1830158100-1830160800@raysepilates.com
SUMMARY:REFORMER LEVEL 1
DESCRIPTION:Reformer Training in Berlin with previous experience or beginner.
URL:https://raysepilates.com/event/beginner-reformer-training-berlin/2027-12-30/
LOCATION:Unser Studio\, Urbanstr. 131\, Berlin\, 10967\, Deutschland
CATEGORIES:berlin schedule
ATTACH;FMTTYPE=image/jpeg:https://raysepilates.com/wp-content/uploads/2024/06/DSCF8318-scaled.jpg
END:VEVENT
END:VCALENDAR